BEGIN:VCALENDAR
VERSION:2.0
PRODID:-//Weaver Street Market - ECPv6.15.18//NONSGML v1.0//EN
CALSCALE:GREGORIAN
METHOD:PUBLISH
X-WR-CALNAME:Weaver Street Market
X-ORIGINAL-URL:https://www.weaverstreetmarket.coop
X-WR-CALDESC:Events for Weaver Street Market
REFRESH-INTERVAL;VALUE=DURATION:PT1H
X-Robots-Tag:noindex
X-PUBLISHED-TTL:PT1H
BEGIN:VTIMEZONE
TZID:UTC
BEGIN:STANDARD
TZOFFSETFROM:+0000
TZOFFSETTO:+0000
TZNAME:UTC
DTSTART:20150101T000000
END:STANDARD
END:VTIMEZONE
BEGIN:VEVENT
DTSTART;TZID=UTC:20160831T180000
DTEND;TZID=UTC:20160831T193000
DTSTAMP:20260422T230304
CREATED:20160815T174304Z
LAST-MODIFIED:20160825T150956Z
UID:8185-1472666400-1472671800@www.weaverstreetmarket.coop
SUMMARY:Meet-the-Candidates Wine and Cheese Tasting in Carrboro
DESCRIPTION:Meet the consumer-owner candidates in the Board election and enjoy co-op-made wine and cheeses from La Riojana Winery and Cabot Creamery. We’ll also be serving our own breads and sweet tea. There will be posters to read\, and the candidates will be there to answer your questions. \nEvent Times:\nTuesday\, August 30\, 6 to 7:30 PM\, Hillsborough store (rain date: September 6)\nWednesday\, August 31\, 6 to 7:30 PM\, Carrboro store’s west patio (rain date: September 7) \nThe voting period runs until September 11. Read about the candidates online in the Annual Report. \n.
URL:https://www.weaverstreetmarket.coop/event/meet-the-candidates-wine-and-cheese-tasting-2/
LOCATION:Weaver Street Carrboro\, 101 East Weaver Street\, Carrboro\, NC\, 27510\, United States
CATEGORIES:Owner
ATTACH;FMTTYPE=image/jpeg:https://www.weaverstreetmarket.coop/wp-content/uploads/2016/08/wine-cheese-board-pixabay.jpg
GEO:35.9111078;-79.0722591
X-APPLE-STRUCTURED-LOCATION;VALUE=URI;X-ADDRESS=Weaver Street Carrboro 101 East Weaver Street Carrboro NC 27510 United States;X-APPLE-RADIUS=500;X-TITLE=101 East Weaver Street:geo:-79.0722591,35.9111078
END:VEVENT
END:VCALENDAR