BEGIN:VCALENDAR
VERSION:2.0
PRODID:-//Weaver Street Market - ECPv6.15.18//NONSGML v1.0//EN
CALSCALE:GREGORIAN
METHOD:PUBLISH
X-WR-CALNAME:Weaver Street Market
X-ORIGINAL-URL:https://www.weaverstreetmarket.coop
X-WR-CALDESC:Events for Weaver Street Market
REFRESH-INTERVAL;VALUE=DURATION:PT1H
X-Robots-Tag:noindex
X-PUBLISHED-TTL:PT1H
BEGIN:VTIMEZONE
TZID:UTC
BEGIN:STANDARD
TZOFFSETFROM:+0000
TZOFFSETTO:+0000
TZNAME:UTC
DTSTART:20150101T000000
END:STANDARD
END:VTIMEZONE
BEGIN:VEVENT
DTSTART;TZID=UTC:20161008T130000
DTEND;TZID=UTC:20161008T170000
DTSTAMP:20260420T014032
CREATED:20160803T171721Z
LAST-MODIFIED:20161006T184923Z
UID:8092-1475931600-1475946000@www.weaverstreetmarket.coop
SUMMARY:Fall Wine Show--Carrboro
DESCRIPTION:Try all of the wines from our Fall Wine Sale. Pay at the tent entrance\, then browse\, eat hors d’oeuvres\, and try all the wines. Enter the raffle for door prizes. Take home your glass as a souvenir. Enjoy live music. \nIf you’d like to buy wine\, we’ll have a table ready to take your order and pack the wines for you; 10% case discount on 12+ bottles (you can mix and match a case); 5% on 6+ bottles. \nEnter a $5 raffle to win a case of wine-sale wines. All proceeds go to the Cooperative Community Fund. \nDetails: https://www.weaverstreetmarket.coop/fall-wine-sale-is-coming/ \nWine List (PDF): https://www.weaverstreetmarket.coop/pdf/WineSaleFlyer2016Fall.pdf \nPlease be ready to show id. \nThis event is under a tent and will be on\, rain\, or shine. Tent sides will make it cozy despite the hurricane rain!
URL:https://www.weaverstreetmarket.coop/event/fall-wine-show/
LOCATION:Weaver Street Carrboro\, 101 East Weaver Street\, Carrboro\, NC\, 27510\, United States
CATEGORIES:Carrboro
ATTACH;FMTTYPE=image/jpeg:https://www.weaverstreetmarket.coop/wp-content/uploads/2015/09/Wine-Show-TastingAction-cropped.jpg
GEO:35.9111078;-79.0722591
X-APPLE-STRUCTURED-LOCATION;VALUE=URI;X-ADDRESS=Weaver Street Carrboro 101 East Weaver Street Carrboro NC 27510 United States;X-APPLE-RADIUS=500;X-TITLE=101 East Weaver Street:geo:-79.0722591,35.9111078
END:VEVENT
END:VCALENDAR