BEGIN:VCALENDAR
VERSION:2.0
PRODID:-//Weaver Street Market - ECPv6.15.18//NONSGML v1.0//EN
CALSCALE:GREGORIAN
METHOD:PUBLISH
X-WR-CALNAME:Weaver Street Market
X-ORIGINAL-URL:https://www.weaverstreetmarket.coop
X-WR-CALDESC:Events for Weaver Street Market
REFRESH-INTERVAL;VALUE=DURATION:PT1H
X-Robots-Tag:noindex
X-PUBLISHED-TTL:PT1H
BEGIN:VTIMEZONE
TZID:UTC
BEGIN:STANDARD
TZOFFSETFROM:+0000
TZOFFSETTO:+0000
TZNAME:UTC
DTSTART:20150101T000000
END:STANDARD
END:VTIMEZONE
BEGIN:VEVENT
DTSTART;TZID=UTC:20161114T170000
DTEND;TZID=UTC:20161114T200000
DTSTAMP:20260419T134926
CREATED:20161107T190415Z
LAST-MODIFIED:20161109T163520Z
UID:9069-1479142800-1479153600@www.weaverstreetmarket.coop
SUMMARY:Drink the Eno Riviera
DESCRIPTION:Mystery Brewing will unveil their new Eno Riviera\, which is brewed with water from the Eno River! They’ll have a Riverwalk hike and music by the Eno Islanders. Ten percent of proceeds will go to Eno River Association. At the Mystery Brewing Public House. \nLearn more: https://visithillsboroughnc.com/event/drink-eno-riviera/
URL:https://www.weaverstreetmarket.coop/event/drink-the-eno-riviera/
CATEGORIES:Community
ATTACH;FMTTYPE=image/jpeg:https://www.weaverstreetmarket.coop/wp-content/uploads/2016/11/riverwalk-banner2.jpg
END:VEVENT
END:VCALENDAR