BEGIN:VCALENDAR
VERSION:2.0
PRODID:-//Weaver Street Market - ECPv6.15.18//NONSGML v1.0//EN
CALSCALE:GREGORIAN
METHOD:PUBLISH
X-WR-CALNAME:Weaver Street Market
X-ORIGINAL-URL:https://www.weaverstreetmarket.coop
X-WR-CALDESC:Events for Weaver Street Market
REFRESH-INTERVAL;VALUE=DURATION:PT1H
X-Robots-Tag:noindex
X-PUBLISHED-TTL:PT1H
BEGIN:VTIMEZONE
TZID:UTC
BEGIN:STANDARD
TZOFFSETFROM:+0000
TZOFFSETTO:+0000
TZNAME:UTC
DTSTART:20180101T000000
END:STANDARD
END:VTIMEZONE
BEGIN:VEVENT
DTSTART;TZID=UTC:20190325T180000
DTEND;TZID=UTC:20190325T193000
DTSTAMP:20260422T135730
CREATED:20190312T175149Z
LAST-MODIFIED:20190312T175149Z
UID:17757-1553536800-1553542200@www.weaverstreetmarket.coop
SUMMARY:Charity & Justice Workshop
DESCRIPTION:Join a community workshop focused on charity and justice responses to human need and how people might work together. Hosted by the  Orange County Food Council and Orange County Partnership to End Homelessness. \nhttps://www.facebook.com/events/828011557544672/
URL:https://www.weaverstreetmarket.coop/event/charity-justice-workshop/
LOCATION:Carrboro Century Center\, 100 North Greensboro Street\, Carrboro\, NC\, 27510\, United States
CATEGORIES:Community
ATTACH;FMTTYPE=image/jpeg:https://www.weaverstreetmarket.coop/wp-content/uploads/2019/03/charityjustice-banner.jpg
GEO:35.910699;-79.0720971
X-APPLE-STRUCTURED-LOCATION;VALUE=URI;X-ADDRESS=Carrboro Century Center 100 North Greensboro Street Carrboro NC 27510 United States;X-APPLE-RADIUS=500;X-TITLE=100 North Greensboro Street:geo:-79.0720971,35.910699
END:VEVENT
BEGIN:VEVENT
DTSTART;TZID=UTC:20190325T190000
DTEND;TZID=UTC:20190325T210000
DTSTAMP:20260422T135730
CREATED:20190305T201515Z
LAST-MODIFIED:20190305T201731Z
UID:17673-1553540400-1553547600@www.weaverstreetmarket.coop
SUMMARY:Skip the Straw Movie Screenings
DESCRIPTION:Skip the Straw is an initiative sponsored by the Orange County Board of Commissioners to create awareness of the impacts single-use plastics have on the environment. The initiative encourages individuals and restaurants to pledge to reduce the number of straws that wind up in landfills\, storm drains\, local waterways and eventually the ocean. \nLearn more and take the pledge: https://www.orangecountync.gov/2079/Skip-the-Straw \nThere will be two special showings of the movie Straws. Movie locations: \n\nMarch 25\, 7 PM at the Varsity Theater in Chapel Hill\nMarch 26\, 7 OM at the OC Public Library in Hillsborough
URL:https://www.weaverstreetmarket.coop/event/skip-the-straw-movie-screenings/
CATEGORIES:Community
ATTACH;FMTTYPE=image/png:https://www.weaverstreetmarket.coop/wp-content/uploads/2019/03/skip-the-straw-logo-smaller.png
END:VEVENT
END:VCALENDAR