BEGIN:VCALENDAR
VERSION:2.0
PRODID:-//Weaver Street Market - ECPv6.15.18//NONSGML v1.0//EN
CALSCALE:GREGORIAN
METHOD:PUBLISH
X-WR-CALNAME:Weaver Street Market
X-ORIGINAL-URL:https://www.weaverstreetmarket.coop
X-WR-CALDESC:Events for Weaver Street Market
REFRESH-INTERVAL;VALUE=DURATION:PT1H
X-Robots-Tag:noindex
X-PUBLISHED-TTL:PT1H
BEGIN:VTIMEZONE
TZID:UTC
BEGIN:STANDARD
TZOFFSETFROM:+0000
TZOFFSETTO:+0000
TZNAME:UTC
DTSTART:20230101T000000
END:STANDARD
END:VTIMEZONE
BEGIN:VEVENT
DTSTART;TZID=UTC:20240921T103000
DTEND;TZID=UTC:20240921T133000
DTSTAMP:20260425T220050
CREATED:20240917T165743Z
LAST-MODIFIED:20240917T165743Z
UID:29090-1726914600-1726925400@www.weaverstreetmarket.coop
SUMMARY:Block Party with Coastal Credit Union
DESCRIPTION:
URL:https://www.weaverstreetmarket.coop/event/block-party-with-coastal-credit-union/
LOCATION:Weaver Street Market\, 404 W Hargett St\, Raleigh\, NC 27603\, 404 W Hargett St\,\, Raleigh\, NC\, NC\, 27603\, United States
CATEGORIES:Raleigh
ATTACH;FMTTYPE=image/jpeg:https://www.weaverstreetmarket.coop/wp-content/uploads/2024/09/Coastal-Credit-Union-Block-Party-.jpg
END:VEVENT
BEGIN:VEVENT
DTSTART;TZID=UTC:20240921T140000
DTEND;TZID=UTC:20240921T160000
DTSTAMP:20260425T220050
CREATED:20240820T161124Z
LAST-MODIFIED:20240911T181237Z
UID:28996-1726927200-1726934400@www.weaverstreetmarket.coop
SUMMARY:Fall Wine Sale & Fair
DESCRIPTION:Weaver Street Market in Carrboro \nMore details coming…
URL:https://www.weaverstreetmarket.coop/event/fall-wine-sale-fair-2/
LOCATION:101 E. Weaver Street in Carrboro\, 101 E. Weaver St.\, Carrboro\, NC\, 27510\, United States
CATEGORIES:Carrboro
ATTACH;FMTTYPE=image/jpeg:https://www.weaverstreetmarket.coop/wp-content/uploads/2024/08/SV_WineFair3-scaled.jpg
END:VEVENT
END:VCALENDAR