BEGIN:VCALENDAR
VERSION:2.0
PRODID:-//Weaver Street Market - ECPv6.15.18//NONSGML v1.0//EN
CALSCALE:GREGORIAN
METHOD:PUBLISH
X-ORIGINAL-URL:https://www.weaverstreetmarket.coop
X-WR-CALDESC:Events for Weaver Street Market
REFRESH-INTERVAL;VALUE=DURATION:PT1H
X-Robots-Tag:noindex
X-PUBLISHED-TTL:PT1H
BEGIN:VTIMEZONE
TZID:UTC
BEGIN:STANDARD
TZOFFSETFROM:+0000
TZOFFSETTO:+0000
TZNAME:UTC
DTSTART:20230101T000000
END:STANDARD
END:VTIMEZONE
BEGIN:VEVENT
DTSTART;TZID=UTC:20240922T110000
DTEND;TZID=UTC:20240922T130000
DTSTAMP:20260421T215700
CREATED:20240816T175141Z
LAST-MODIFIED:20240911T181336Z
UID:28973-1727002800-1727010000@www.weaverstreetmarket.coop
SUMMARY:Sunday Brunch Music
DESCRIPTION:
URL:https://www.weaverstreetmarket.coop/event/sunday-brunch-music-16/
LOCATION:101 E. Weaver Street in Carrboro\, 101 E. Weaver St.\, Carrboro\, NC\, 27510\, United States
CATEGORIES:Carrboro
END:VEVENT
END:VCALENDAR