BEGIN:VCALENDAR
VERSION:2.0
PRODID:-//Weaver Street Market - ECPv6.15.18//NONSGML v1.0//EN
CALSCALE:GREGORIAN
METHOD:PUBLISH
X-WR-CALNAME:Weaver Street Market
X-ORIGINAL-URL:https://www.weaverstreetmarket.coop
X-WR-CALDESC:Events for Weaver Street Market
REFRESH-INTERVAL;VALUE=DURATION:PT1H
X-Robots-Tag:noindex
X-PUBLISHED-TTL:PT1H
BEGIN:VTIMEZONE
TZID:UTC
BEGIN:STANDARD
TZOFFSETFROM:+0000
TZOFFSETTO:+0000
TZNAME:UTC
DTSTART:20230101T000000
END:STANDARD
END:VTIMEZONE
BEGIN:VEVENT
DTSTART;TZID=UTC:20240928T140000
DTEND;TZID=UTC:20240928T160000
DTSTAMP:20260421T192120
CREATED:20240820T161557Z
LAST-MODIFIED:20240911T181511Z
UID:28999-1727532000-1727539200@www.weaverstreetmarket.coop
SUMMARY:Fall Wine Sale & Fair
DESCRIPTION:Weaver Street Market Hillsborough store \nMore details coming…
URL:https://www.weaverstreetmarket.coop/event/fall-wine-sale-fair-3/
LOCATION:Weaver Street Hillsborough\, 228 South Churton Street\, Hillsborough\, NC\, 27278\, United States
CATEGORIES:Hillsborough
ATTACH;FMTTYPE=image/jpeg:https://www.weaverstreetmarket.coop/wp-content/uploads/2024/08/IMG_9826-scaled.jpg
GEO:36.0735898;-79.0997367
X-APPLE-STRUCTURED-LOCATION;VALUE=URI;X-ADDRESS=Weaver Street Hillsborough 228 South Churton Street Hillsborough NC 27278 United States;X-APPLE-RADIUS=500;X-TITLE=228 South Churton Street:geo:-79.0997367,36.0735898
END:VEVENT
END:VCALENDAR