BEGIN:VCALENDAR
VERSION:2.0
PRODID:-//Weaver Street Market - ECPv6.15.18//NONSGML v1.0//EN
CALSCALE:GREGORIAN
METHOD:PUBLISH
X-WR-CALNAME:Weaver Street Market
X-ORIGINAL-URL:https://www.weaverstreetmarket.coop
X-WR-CALDESC:Events for Weaver Street Market
REFRESH-INTERVAL;VALUE=DURATION:PT1H
X-Robots-Tag:noindex
X-PUBLISHED-TTL:PT1H
BEGIN:VTIMEZONE
TZID:UTC
BEGIN:STANDARD
TZOFFSETFROM:+0000
TZOFFSETTO:+0000
TZNAME:UTC
DTSTART:20240101T000000
END:STANDARD
END:VTIMEZONE
BEGIN:VEVENT
DTSTART;TZID=UTC:20250809T130000
DTEND;TZID=UTC:20250809T150000
DTSTAMP:20260423T002449
CREATED:20250701T183737Z
LAST-MODIFIED:20250721T183807Z
UID:30607-1754744400-1754751600@www.weaverstreetmarket.coop
SUMMARY:SOLD OUT: Hands-on Pasta Making Class
DESCRIPTION:Join us in our Raleigh Upstairs Tasting Kitchen for a hands-on pasta making class! Learn the basics of making hand-rolled and cut pasta and a few simple and delicious ways to sauce it! Check back soon for a link to purchase your tickets!
URL:https://www.weaverstreetmarket.coop/event/hands-on-pasta-making-class/
LOCATION:Weaver Street Market\, 404 W Hargett St\, Raleigh\, NC 27603\, 404 W Hargett St\,\, Raleigh\, NC\, NC\, 27603\, United States
CATEGORIES:Raleigh
ATTACH;FMTTYPE=image/jpeg:https://www.weaverstreetmarket.coop/wp-content/uploads/2021/05/Pasta.jpg
END:VEVENT
BEGIN:VEVENT
DTSTART;TZID=UTC:20250809T170000
DTEND;TZID=UTC:20250809T190000
DTSTAMP:20260423T002449
CREATED:20250721T183501Z
LAST-MODIFIED:20250728T192911Z
UID:30691-1754758800-1754766000@www.weaverstreetmarket.coop
SUMMARY:SOLD OUT! Hands-on Pasta Making Class - session 2
DESCRIPTION:Our first class sold out in 24 hours. We heard you – you want more pasta! So\, we have added a second class! Join us for session two from 5 to 7pm in our Raleigh Upstairs Tasting Kitchen for a hands-on pasta making class! Learn the basics of making hand-rolled and cut pasta and a few simple and delicious ways to sauce it! Check back soon for a link to purchase your tickets!
URL:https://www.weaverstreetmarket.coop/event/hands-on-pasta-making-class-session-2/
LOCATION:Weaver Street Market\, 404 W Hargett St\, Raleigh\, NC 27603\, 404 W Hargett St\,\, Raleigh\, NC\, NC\, 27603\, United States
CATEGORIES:Raleigh
ATTACH;FMTTYPE=image/jpeg:https://www.weaverstreetmarket.coop/wp-content/uploads/2021/05/Pasta.jpg
END:VEVENT
END:VCALENDAR