BEGIN:VCALENDAR
VERSION:2.0
PRODID:-//Weaver Street Market - ECPv6.15.18//NONSGML v1.0//EN
CALSCALE:GREGORIAN
METHOD:PUBLISH
X-WR-CALNAME:Weaver Street Market
X-ORIGINAL-URL:https://www.weaverstreetmarket.coop
X-WR-CALDESC:Events for Weaver Street Market
REFRESH-INTERVAL;VALUE=DURATION:PT1H
X-Robots-Tag:noindex
X-PUBLISHED-TTL:PT1H
BEGIN:VTIMEZONE
TZID:UTC
BEGIN:STANDARD
TZOFFSETFROM:+0000
TZOFFSETTO:+0000
TZNAME:UTC
DTSTART:20250101T000000
END:STANDARD
END:VTIMEZONE
BEGIN:VEVENT
DTSTART;VALUE=DATE:20260401
DTEND;VALUE=DATE:20260501
DTSTAMP:20260422T110302
CREATED:20260408T195716Z
LAST-MODIFIED:20260408T195716Z
UID:32507-1775001600-1777593599@www.weaverstreetmarket.coop
SUMMARY:Raleigh Daily Events Calendar
DESCRIPTION:Check out our APRIL 2026 Daily Calendar for our Raleigh store! \nClick on this link to open and download!  APRIL 2026 RALEIGH DAILY CALENDAR
URL:https://www.weaverstreetmarket.coop/event/raleigh-daily-events-calendar/
LOCATION:Weaver Street Market\, 404 W Hargett St\, Raleigh\, NC 27603\, 404 W Hargett St\,\, Raleigh\, NC\, NC\, 27603\, United States
CATEGORIES:Raleigh
ATTACH;FMTTYPE=image/jpeg:https://www.weaverstreetmarket.coop/wp-content/uploads/2026/04/WSM-RALEIGH-CALENDAR-1.jpeg
END:VEVENT
BEGIN:VEVENT
DTSTART;TZID=UTC:20260418T074500
DTEND;TZID=UTC:20260418T110000
DTSTAMP:20260422T110302
CREATED:20260402T022421Z
LAST-MODIFIED:20260402T173906Z
UID:32411-1776498300-1776510000@www.weaverstreetmarket.coop
SUMMARY:Weaver Street Market will be at the Tar Heel Ten Miler Run!
DESCRIPTION:Weaver Street Market will be at the finish line of the Tar Heel Ten Miler on April 18th! Learn more here: Tarheel 10 Miler
URL:https://www.weaverstreetmarket.coop/event/weaver-street-market-will-be-at-the-tar-heel-ten-miler-run/
LOCATION:Chapel Hill\, NC
ATTACH;FMTTYPE=image/png:https://www.weaverstreetmarket.coop/wp-content/uploads/2026/04/tar-heel-ten-miler-logo-e1775096629439.png
END:VEVENT
BEGIN:VEVENT
DTSTART;TZID=UTC:20260418T120000
DTEND;TZID=UTC:20260418T140000
DTSTAMP:20260422T110302
CREATED:20260416T233532Z
LAST-MODIFIED:20260417T005614Z
UID:32567-1776513600-1776520800@www.weaverstreetmarket.coop
SUMMARY:Make Weaver Street Market your starting point for Record Store Day!
DESCRIPTION:Start at Weaver Street Market for some lunch or a cup of coffee\, download (or pickup at the store) our record store listing\, and then tour the record stores in the walkable area! 12 to 2pm. \nDownload the Listing:
URL:https://www.weaverstreetmarket.coop/event/make-weaver-street-market-your-starting-point-for-record-store-day/
LOCATION:Weaver Street Market\, 404 W Hargett St\, Raleigh\, NC 27603\, 404 W Hargett St\,\, Raleigh\, NC\, NC\, 27603\, United States
CATEGORIES:Raleigh
ATTACH;FMTTYPE=image/jpeg:https://www.weaverstreetmarket.coop/wp-content/uploads/2026/04/iStock-2010320529.jpg
END:VEVENT
END:VCALENDAR