BEGIN:VCALENDAR
VERSION:2.0
PRODID:-//Weaver Street Market - ECPv6.15.18//NONSGML v1.0//EN
CALSCALE:GREGORIAN
METHOD:PUBLISH
X-WR-CALNAME:Weaver Street Market
X-ORIGINAL-URL:https://www.weaverstreetmarket.coop
X-WR-CALDESC:Events for Weaver Street Market
REFRESH-INTERVAL;VALUE=DURATION:PT1H
X-Robots-Tag:noindex
X-PUBLISHED-TTL:PT1H
BEGIN:VTIMEZONE
TZID:UTC
BEGIN:STANDARD
TZOFFSETFROM:+0000
TZOFFSETTO:+0000
TZNAME:UTC
DTSTART:20250101T000000
END:STANDARD
END:VTIMEZONE
BEGIN:VEVENT
DTSTART;VALUE=DATE:20260401
DTEND;VALUE=DATE:20260501
DTSTAMP:20260424T202908
CREATED:20260408T195716Z
LAST-MODIFIED:20260408T195716Z
UID:32507-1775001600-1777593599@www.weaverstreetmarket.coop
SUMMARY:Raleigh Daily Events Calendar
DESCRIPTION:Check out our APRIL 2026 Daily Calendar for our Raleigh store! \nClick on this link to open and download!  APRIL 2026 RALEIGH DAILY CALENDAR
URL:https://www.weaverstreetmarket.coop/event/raleigh-daily-events-calendar/
LOCATION:Weaver Street Market\, 404 W Hargett St\, Raleigh\, NC 27603\, 404 W Hargett St\,\, Raleigh\, NC\, NC\, 27603\, United States
CATEGORIES:Raleigh
ATTACH;FMTTYPE=image/jpeg:https://www.weaverstreetmarket.coop/wp-content/uploads/2026/04/WSM-RALEIGH-CALENDAR-1.jpeg
END:VEVENT
BEGIN:VEVENT
DTSTART;TZID=UTC:20260422T180000
DTEND;TZID=UTC:20260422T200000
DTSTAMP:20260424T202908
CREATED:20260417T011028Z
LAST-MODIFIED:20260417T013409Z
UID:32502-1776880800-1776888000@www.weaverstreetmarket.coop
SUMMARY:Game Night: Mah Jong Lessons with Wake-Up 'n Majh Social Club
DESCRIPTION:Follow this link to find out more information and to sign up! \nMah Jong Lessons at Weaver Street Market \nJoin us in our upstairs dining area
URL:https://www.weaverstreetmarket.coop/event/mah-jong-lessons-with-wake-up-n-majh-social-club/
LOCATION:Weaver Street Market\, 404 W Hargett St\, Raleigh\, NC 27603\, 404 W Hargett St\,\, Raleigh\, NC\, NC\, 27603\, United States
CATEGORIES:Raleigh
ATTACH;FMTTYPE=image/png:https://www.weaverstreetmarket.coop/wp-content/uploads/2026/04/Wake-Up-N-Mahj-Blue-Logo-1.png
END:VEVENT
BEGIN:VEVENT
DTSTART;TZID=UTC:20260422T180000
DTEND;TZID=UTC:20260422T200000
DTSTAMP:20260424T202908
CREATED:20260417T015044Z
LAST-MODIFIED:20260417T015044Z
UID:32586-1776880800-1776888000@www.weaverstreetmarket.coop
SUMMARY:Earth Day Crafting Gathering
DESCRIPTION:Join us for crafting at the Raleigh Weaver Street Market! We will use found items to create a Mandala from 6 to 8pm in our upstairs dining area. Free for all!
URL:https://www.weaverstreetmarket.coop/event/earth-day-crafting-gathering/
LOCATION:Weaver Street Market\, 404 W Hargett St\, Raleigh\, NC 27603\, 404 W Hargett St\,\, Raleigh\, NC\, NC\, 27603\, United States
CATEGORIES:Raleigh
ATTACH;FMTTYPE=image/jpeg:https://www.weaverstreetmarket.coop/wp-content/uploads/2026/04/iStock-1367390322.jpg
END:VEVENT
END:VCALENDAR