BEGIN:VCALENDAR
VERSION:2.0
PRODID:-//Weaver Street Market - ECPv6.15.18//NONSGML v1.0//EN
CALSCALE:GREGORIAN
METHOD:PUBLISH
X-WR-CALNAME:Weaver Street Market
X-ORIGINAL-URL:https://www.weaverstreetmarket.coop
X-WR-CALDESC:Events for Weaver Street Market
REFRESH-INTERVAL;VALUE=DURATION:PT1H
X-Robots-Tag:noindex
X-PUBLISHED-TTL:PT1H
BEGIN:VTIMEZONE
TZID:UTC
BEGIN:STANDARD
TZOFFSETFROM:+0000
TZOFFSETTO:+0000
TZNAME:UTC
DTSTART:20250101T000000
END:STANDARD
END:VTIMEZONE
BEGIN:VEVENT
DTSTART;VALUE=DATE:20260401
DTEND;VALUE=DATE:20260501
DTSTAMP:20260424T031047
CREATED:20260408T195716Z
LAST-MODIFIED:20260408T195716Z
UID:32507-1775001600-1777593599@www.weaverstreetmarket.coop
SUMMARY:Raleigh Daily Events Calendar
DESCRIPTION:Check out our APRIL 2026 Daily Calendar for our Raleigh store! \nClick on this link to open and download!  APRIL 2026 RALEIGH DAILY CALENDAR
URL:https://www.weaverstreetmarket.coop/event/raleigh-daily-events-calendar/
LOCATION:Weaver Street Market\, 404 W Hargett St\, Raleigh\, NC 27603\, 404 W Hargett St\,\, Raleigh\, NC\, NC\, 27603\, United States
CATEGORIES:Raleigh
ATTACH;FMTTYPE=image/jpeg:https://www.weaverstreetmarket.coop/wp-content/uploads/2026/04/WSM-RALEIGH-CALENDAR-1.jpeg
END:VEVENT
BEGIN:VEVENT
DTSTART;TZID=UTC:20260424T170000
DTEND;TZID=UTC:20260424T190000
DTSTAMP:20260424T031047
CREATED:20260403T025153Z
LAST-MODIFIED:20260403T025153Z
UID:32446-1777050000-1777057200@www.weaverstreetmarket.coop
SUMMARY:Raleigh Friday Night Tasting Event
DESCRIPTION:Raleigh Friday Night Tasting Event in our Raleigh store from 5pm to 7pm
URL:https://www.weaverstreetmarket.coop/event/raleigh-friday-night-tasting-event-5/
LOCATION:Weaver Street Market\, 404 W Hargett St\, Raleigh\, NC 27603\, 404 W Hargett St\,\, Raleigh\, NC\, NC\, 27603\, United States
CATEGORIES:Raleigh
ATTACH;FMTTYPE=image/png:https://www.weaverstreetmarket.coop/wp-content/uploads/2026/03/Friday-night-Tastings-RL-SOCIAL-2-1-scaled.png
END:VEVENT
BEGIN:VEVENT
DTSTART;TZID=UTC:20260424T180000
DTEND;TZID=UTC:20260424T220000
DTSTAMP:20260424T031047
CREATED:20260417T022613Z
LAST-MODIFIED:20260417T022613Z
UID:32593-1777053600-1777068000@www.weaverstreetmarket.coop
SUMMARY:Join Weaver Street Market at the Mebane Dogwood Festival
DESCRIPTION:Join Weaver Street Market at the Dogwood Festival on Friday night\, April 24th from 6pm to 10pm!
URL:https://www.weaverstreetmarket.coop/event/join-weaver-street-market-at-the-mebane-dogwood-festival/
CATEGORIES:Community
ATTACH;FMTTYPE=image/jpeg:https://www.weaverstreetmarket.coop/wp-content/uploads/2026/04/Screenshot_16-4-2026_221743_themebanedogwoodfestival.com_.jpeg
ORGANIZER;CN="Mebane Business Association":MAILTO:mebanebusinessassociation@gmail.com
END:VEVENT
END:VCALENDAR