BEGIN:VCALENDAR
VERSION:2.0
PRODID:-//Weaver Street Market - ECPv6.15.18//NONSGML v1.0//EN
CALSCALE:GREGORIAN
METHOD:PUBLISH
X-ORIGINAL-URL:https://www.weaverstreetmarket.coop
X-WR-CALDESC:Events for Weaver Street Market
REFRESH-INTERVAL;VALUE=DURATION:PT1H
X-Robots-Tag:noindex
X-PUBLISHED-TTL:PT1H
BEGIN:VTIMEZONE
TZID:UTC
BEGIN:STANDARD
TZOFFSETFROM:+0000
TZOFFSETTO:+0000
TZNAME:UTC
DTSTART:20180101T000000
END:STANDARD
END:VTIMEZONE
BEGIN:VEVENT
DTSTART;TZID=UTC:20190320T163000
DTEND;TZID=UTC:20190320T193000
DTSTAMP:20260426T031846
CREATED:20190312T164939Z
LAST-MODIFIED:20190312T174608Z
UID:17751-1553099400-1553110200@www.weaverstreetmarket.coop
SUMMARY:Spaghetti Dinner
DESCRIPTION:Orange County Relay for Life (to fight cancer) is holding their Spaghetti Dinner fundraiser. Adult plates are $7\, kids 5 and under are free. The meal includes spaghetti\, salad\, bread\, a drink\, and dessert. Dine in or take out. The event is at the Efland Methodist Fellowship Hall\, 3418 Hwy 70 in Efland. \nhttps://www.facebook.com/events/387020115181438/
URL:https://www.weaverstreetmarket.coop/event/spaghetti-dinner/
CATEGORIES:Community
ATTACH;FMTTYPE=image/jpeg:https://www.weaverstreetmarket.coop/wp-content/uploads/2019/03/Relay-for-Life-luminaria.jpg
END:VEVENT
END:VCALENDAR