BEGIN:VCALENDAR
VERSION:2.0
PRODID:-//Weaver Street Market - ECPv6.15.18//NONSGML v1.0//EN
CALSCALE:GREGORIAN
METHOD:PUBLISH
X-WR-CALNAME:Weaver Street Market
X-ORIGINAL-URL:https://www.weaverstreetmarket.coop
X-WR-CALDESC:Events for Weaver Street Market
REFRESH-INTERVAL;VALUE=DURATION:PT1H
X-Robots-Tag:noindex
X-PUBLISHED-TTL:PT1H
BEGIN:VTIMEZONE
TZID:UTC
BEGIN:STANDARD
TZOFFSETFROM:+0000
TZOFFSETTO:+0000
TZNAME:UTC
DTSTART:20180101T000000
END:STANDARD
END:VTIMEZONE
BEGIN:VEVENT
DTSTART;TZID=UTC:20190602T160000
DTEND;TZID=UTC:20190602T190000
DTSTAMP:20260421T234144
CREATED:20190520T164845Z
LAST-MODIFIED:20190520T164845Z
UID:18217-1559491200-1559502000@www.weaverstreetmarket.coop
SUMMARY:Farm to Fork Picnic
DESCRIPTION:A joyous celebration of local foods and the people who artfully produce and prepare them. ​Bon Appétit magazine called it “the country’s best all-you-can-eat feast”! At the beautiful grounds of ​Fearrington Village​\, where ​dozens of our area’s best chefs\, farmers\, artisan producers\, and beverage providers create a dizzying array of delectable dishes highlighting the bounty of the season. The Picnic also features fun activities for children\, live music\, and surprises for the whole family! \nFarm to Fork is a fundraiser so all the proceeds go to training new and beginning farmers via CEFS’ Sustainable Agriculture Internship and Apprenticeship Programs. \nAnd\, our bread bakers will be there! \nTickets: https://www.farmtoforknc.com/
URL:https://www.weaverstreetmarket.coop/event/farm-to-fork-picnic/
CATEGORIES:Community
ATTACH;FMTTYPE=image/jpeg:https://www.weaverstreetmarket.coop/wp-content/uploads/2019/05/Farm-to-fork-banner.jpg
END:VEVENT
END:VCALENDAR