BEGIN:VCALENDAR
VERSION:2.0
PRODID:-//Weaver Street Market - ECPv6.15.18//NONSGML v1.0//EN
CALSCALE:GREGORIAN
METHOD:PUBLISH
X-ORIGINAL-URL:https://www.weaverstreetmarket.coop
X-WR-CALDESC:Events for Weaver Street Market
REFRESH-INTERVAL;VALUE=DURATION:PT1H
X-Robots-Tag:noindex
X-PUBLISHED-TTL:PT1H
BEGIN:VTIMEZONE
TZID:UTC
BEGIN:STANDARD
TZOFFSETFROM:+0000
TZOFFSETTO:+0000
TZNAME:UTC
DTSTART:20220101T000000
END:STANDARD
END:VTIMEZONE
BEGIN:VEVENT
DTSTART;TZID=UTC:20231208T180000
DTEND;TZID=UTC:20231208T193000
DTSTAMP:20260426T024235
CREATED:20231121T131906Z
LAST-MODIFIED:20231121T131919Z
UID:28077-1702058400-1702063800@www.weaverstreetmarket.coop
SUMMARY:Spice up your Holidays
DESCRIPTION:The holiday season is the perfect time to indulge in delicious food with your loved ones. Get ready to wow your guests with these flavorful and easy-to-make small bites. Your holiday season just got a whole lot tastier! Chef Queen Precious-Jewel and Jay have just the recipes to spice up your holidays and impress your guests. \nJoin them for an interactive Indulgent Cooking Demo as they create 3 savory appetizers featuring their Indulgent Essentials Spices line. These small bites will surely delight everyone’s taste buds and the best part is that they are easy to make. So\, spend less time in the kitchen and more time enjoying the holiday festivities. \nAre you ready to Indulge with Chef Queen Precious-Jewel\, Jay\, and Weaver Street Market?  \nThen join in because there are only 15 spaces available for this event happening on Wednesday\, December 8th from 6-7:30 pm at the Tasking Kitchen at our Raleigh store. If you would like to attend\, please email lisa.w@weaverstreetmarket.coop and get your spot reserved today!
URL:https://www.weaverstreetmarket.coop/event/spice-up-your-holidays/
LOCATION:Weaver Street Raleigh\, 404 West Hargett Street\, Raleigh\, NC\, 27603-1806\, United States
CATEGORIES:Community,Raleigh
GEO:35.7786528;-78.6454709
X-APPLE-STRUCTURED-LOCATION;VALUE=URI;X-ADDRESS=Weaver Street Raleigh 404 West Hargett Street Raleigh NC 27603-1806 United States;X-APPLE-RADIUS=500;X-TITLE=404 West Hargett Street:geo:-78.6454709,35.7786528
END:VEVENT
BEGIN:VEVENT
DTSTART;TZID=UTC:20231216T120000
DTEND;TZID=UTC:20231216T150000
DTSTAMP:20260426T024235
CREATED:20231213T183220Z
LAST-MODIFIED:20231213T183220Z
UID:28120-1702728000-1702738800@www.weaverstreetmarket.coop
SUMMARY:Holiday Market
DESCRIPTION:
URL:https://www.weaverstreetmarket.coop/event/holiday-market/
LOCATION:NC
CATEGORIES:Community
END:VEVENT
BEGIN:VEVENT
DTSTART;TZID=UTC:20240115T130000
DTEND;TZID=UTC:20240115T160000
DTSTAMP:20260426T024235
CREATED:20231114T200310Z
LAST-MODIFIED:20231114T224815Z
UID:28064-1705323600-1705334400@www.weaverstreetmarket.coop
SUMMARY:Dream Big Book Drive
DESCRIPTION:
URL:https://www.weaverstreetmarket.coop/event/dream-big-book-drive/
LOCATION:NC
CATEGORIES:Community
END:VEVENT
BEGIN:VEVENT
DTSTART;TZID=UTC:20240403T170000
DTEND;TZID=UTC:20240403T190000
DTSTAMP:20260426T024235
CREATED:20240401T194841Z
LAST-MODIFIED:20240401T204435Z
UID:28432-1712163600-1712170800@www.weaverstreetmarket.coop
SUMMARY:Wine Sale & Wine Fair
DESCRIPTION:Southern Village store in Chapel Hill \nWine Sale & Fairs – 1\nWine Sale & Fairs – 2
URL:https://www.weaverstreetmarket.coop/event/wine-sale-wine-fair-2/
LOCATION:400 Market St.\, Southern Village Chapel Hill\, NC 27516
CATEGORIES:Community,Southern Village
END:VEVENT
BEGIN:VEVENT
DTSTART;TZID=UTC:20240406T140000
DTEND;TZID=UTC:20240406T160000
DTSTAMP:20260426T024235
CREATED:20240401T194508Z
LAST-MODIFIED:20240401T194647Z
UID:28430-1712412000-1712419200@www.weaverstreetmarket.coop
SUMMARY:Wine Sale & Wine Fair
DESCRIPTION:Carrboro Lawn \nWine Sale & Fairs – 1\nWine Sale & Fairs – 2
URL:https://www.weaverstreetmarket.coop/event/wine-sale-wine-fair/
LOCATION:Weaver Street Carrboro\, 101 East Weaver Street\, Carrboro\, NC\, 27510\, United States
CATEGORIES:Carrboro,Community
GEO:35.9111078;-79.0722591
X-APPLE-STRUCTURED-LOCATION;VALUE=URI;X-ADDRESS=Weaver Street Carrboro 101 East Weaver Street Carrboro NC 27510 United States;X-APPLE-RADIUS=500;X-TITLE=101 East Weaver Street:geo:-79.0722591,35.9111078
END:VEVENT
BEGIN:VEVENT
DTSTART;TZID=UTC:20240410T170000
DTEND;TZID=UTC:20240410T190000
DTSTAMP:20260426T024235
CREATED:20240401T195227Z
LAST-MODIFIED:20240401T195227Z
UID:28434-1712768400-1712775600@www.weaverstreetmarket.coop
SUMMARY:Wine Sale & Wine Fair
DESCRIPTION:Raleigh store \nWine Sale & Fairs – 1\nWine Sale & Fairs – 2
URL:https://www.weaverstreetmarket.coop/event/wine-sale-wine-fair-4/
LOCATION:Weaver Street Raleigh\, 404 West Hargett Street\, Raleigh\, NC\, 27603-1806\, United States
CATEGORIES:Community,Raleigh
GEO:35.7786528;-78.6454709
X-APPLE-STRUCTURED-LOCATION;VALUE=URI;X-ADDRESS=Weaver Street Raleigh 404 West Hargett Street Raleigh NC 27603-1806 United States;X-APPLE-RADIUS=500;X-TITLE=404 West Hargett Street:geo:-78.6454709,35.7786528
END:VEVENT
BEGIN:VEVENT
DTSTART;TZID=UTC:20240413T140000
DTEND;TZID=UTC:20240413T160000
DTSTAMP:20260426T024235
CREATED:20240401T195048Z
LAST-MODIFIED:20240401T195546Z
UID:28433-1713016800-1713024000@www.weaverstreetmarket.coop
SUMMARY:Wine Sale & Wine Fair
DESCRIPTION:Hillsborough Lawn \nWine Sale & Fairs – 1\nWine Sale & Fairs – 2
URL:https://www.weaverstreetmarket.coop/event/wine-sale-wine-fair-3/
LOCATION:Weaver Street Hillsborough\, 228 South Churton Street\, Hillsborough\, NC\, 27278\, United States
CATEGORIES:Community,Hillsborough
GEO:36.0735898;-79.0997367
X-APPLE-STRUCTURED-LOCATION;VALUE=URI;X-ADDRESS=Weaver Street Hillsborough 228 South Churton Street Hillsborough NC 27278 United States;X-APPLE-RADIUS=500;X-TITLE=228 South Churton Street:geo:-79.0997367,36.0735898
END:VEVENT
BEGIN:VEVENT
DTSTART;TZID=UTC:20240420T140000
DTEND;TZID=UTC:20240420T180000
DTSTAMP:20260426T024235
CREATED:20240401T201124Z
LAST-MODIFIED:20240401T201627Z
UID:28443-1713621600-1713636000@www.weaverstreetmarket.coop
SUMMARY:Farm Tour
DESCRIPTION:Learn more about Piedmont Farm Tour here. \n \n 
URL:https://www.weaverstreetmarket.coop/event/farm-tour/
LOCATION:Carolina Farm Stewardship
CATEGORIES:Community
END:VEVENT
BEGIN:VEVENT
DTSTART;TZID=UTC:20240421T140000
DTEND;TZID=UTC:20240421T180000
DTSTAMP:20260426T024235
CREATED:20240401T201221Z
LAST-MODIFIED:20240401T201549Z
UID:28445-1713708000-1713722400@www.weaverstreetmarket.coop
SUMMARY:Farm Tour
DESCRIPTION:Learn more about Piedmont Farm Tour here. \n \n 
URL:https://www.weaverstreetmarket.coop/event/28445/
LOCATION:Carolina Farm Stewardship
CATEGORIES:Community
END:VEVENT
BEGIN:VEVENT
DTSTART;TZID=UTC:20240426T120000
DTEND;TZID=UTC:20240426T130000
DTSTAMP:20260426T024235
CREATED:20240402T182856Z
LAST-MODIFIED:20240402T182929Z
UID:28453-1714132800-1714136400@www.weaverstreetmarket.coop
SUMMARY:El Futuro Benefit
DESCRIPTION:El Futuro Benefit \nApril 26th from 12 pm – 1 pm at the Durham Convention Center \nReserve your place at El Futuro’s 2024 Annual Benefit Luncheon and help them celebrate 20 years of nurturing stronger familias! \nThe Luncheon is 100% free for registered guests\, but you will have an opportunity to make a contribution to El Futuro’s mission if you wish.
URL:https://www.weaverstreetmarket.coop/event/el-futuro-benefit/
LOCATION:NC
CATEGORIES:Community
END:VEVENT
BEGIN:VEVENT
DTSTART;TZID=UTC:20240505T140000
DTEND;TZID=UTC:20240505T170000
DTSTAMP:20260426T024235
CREATED:20240401T200054Z
LAST-MODIFIED:20240401T200054Z
UID:28439-1714917600-1714928400@www.weaverstreetmarket.coop
SUMMARY:Meet and Greet the New General Manager
DESCRIPTION:Come to our Meet and Greet the New General Manager\, James Watts during our Co-op Fair in Carrboro!
URL:https://www.weaverstreetmarket.coop/event/meet-and-greet-the-new-general-manager-2/
LOCATION:Weaver Street Carrboro\, 101 East Weaver Street\, Carrboro\, NC\, 27510\, United States
CATEGORIES:Carrboro,Community
GEO:35.9111078;-79.0722591
X-APPLE-STRUCTURED-LOCATION;VALUE=URI;X-ADDRESS=Weaver Street Carrboro 101 East Weaver Street Carrboro NC 27510 United States;X-APPLE-RADIUS=500;X-TITLE=101 East Weaver Street:geo:-79.0722591,35.9111078
END:VEVENT
BEGIN:VEVENT
DTSTART;TZID=UTC:20240508T083000
DTEND;TZID=UTC:20240508T120000
DTSTAMP:20260426T024235
CREATED:20240402T183209Z
LAST-MODIFIED:20240402T183209Z
UID:28459-1715157000-1715169600@www.weaverstreetmarket.coop
SUMMARY:Asian American Advocacy Day
DESCRIPTION:NCAAT: Asian American Advocacy Day 2024 \nNorth Carolina General Assembly\, 16 W Jones St\, Raleigh\, NC 27601 \nWednesday\, May 8th (Sign-in will start at 8:30 a.m. and appointments will begin at 11:00 a.m.) \nTheir staff will schedule all appointments and lunch will be provided after appointments conclude. No previous experience is needed! Especially if you haven’t spoken to your legislators before\, this is a great opportunity to join them in a low-pressure and supportive setting. They will provide virtual training at our Lobby 101 training session on Wednesday\, May 1st at 6:30 p.m. \nRSVP at: ncaat.org/risingtogether
URL:https://www.weaverstreetmarket.coop/event/asian-american-advocacy-day/
LOCATION:NC
CATEGORIES:Community,Raleigh
END:VEVENT
BEGIN:VEVENT
DTSTART;TZID=UTC:20240518T110000
DTEND;TZID=UTC:20240518T160000
DTSTAMP:20260426T024235
CREATED:20240417T145817Z
LAST-MODIFIED:20240514T160403Z
UID:28485-1716030000-1716048000@www.weaverstreetmarket.coop
SUMMARY:Common Roots Asian and Pacific Islander Heritage Month Festival
DESCRIPTION:May is Asian Pacific American Heritage Month (APAHM) — come celebrate with us at the 3rd annual Common Roots Fest! We’ll have Asian artists\, a vendor market\, performances\, food\, and more. This event is FREE and welcomes all ages. It will be held outdoors in Raleigh at Moore Square from 11am – 4pm.  \nCelebrate with NCAAT for their third annual festival\, where they’ll have Asian artists\, a vendor market\, performances\, food\, and more! \n  \n  \nMoore Square\, outdoors\, Raleigh \n Saturday\, May 18th\, 11 AM – 4 PM \n☀️ FREE\, all ages welcome! \n  \nThe theme Common Roots\, calls to mind the unique journeys and contributions of the many diverse communities across Asian and Pacific Islander diasporas while highlighting the beauty we create together as we forge connections across backgrounds and generations – just as every individual root of a plant shares in nourishing each leaf and branch\, so the entire being thrives. \nIf you’re interested in performing\, vending\, displaying your art\, hosting an activity\, or sharing an installation\, please sign up here. \n 
URL:https://www.weaverstreetmarket.coop/event/common-roots-asian-and-pacific-islander-heritage-month-festival/
LOCATION:NC
CATEGORIES:Community,Raleigh
END:VEVENT
BEGIN:VEVENT
DTSTART;TZID=UTC:20240518T110000
DTEND;TZID=UTC:20240518T170000
DTSTAMP:20260426T024235
CREATED:20240402T183638Z
LAST-MODIFIED:20240410T172405Z
UID:28461-1716030000-1716051600@www.weaverstreetmarket.coop
SUMMARY:Celebrating AAPI Cultural Heritage
DESCRIPTION:Open House: Celebrating AAPI Cultural Heritage  \nTransplanting Traditions Community Farm\n2912B Jones Ferry Rd\nChapel Hill\, NC 27516 \nJoin Transplanting Traditions Community Farm on May 18th starting at 11 am for a fun day of AAPI culture\, games\, food\, and fun! \nTheir 2024 Spring Open House will include game tournaments for all ages\, food tasting\, cultural sharing\, and a chance to TOUR THE FARM!  \nQuestions? Please email at info@transplantingtraditions.org\nSign up at https://transplantingtraditions.charityproud.org/Donate/Index/25641
URL:https://www.weaverstreetmarket.coop/event/celebrating-aapi-cultural-heritage/
LOCATION:NC
CATEGORIES:Community
END:VEVENT
BEGIN:VEVENT
DTSTART;TZID=UTC:20240522T150000
DTEND;TZID=UTC:20240522T170000
DTSTAMP:20260426T024235
CREATED:20240509T152653Z
LAST-MODIFIED:20240509T152653Z
UID:28566-1716390000-1716397200@www.weaverstreetmarket.coop
SUMMARY:Co-ops in Conversation
DESCRIPTION:
URL:https://www.weaverstreetmarket.coop/event/co-ops-in-conversation/
LOCATION:The People’s Solidarity Hub 1803 Chapel Hill Rd.\, Durham\, NC
CATEGORIES:Community
END:VEVENT
BEGIN:VEVENT
DTSTART;TZID=UTC:20240602T150000
DTEND;TZID=UTC:20240602T180000
DTSTAMP:20260426T024235
CREATED:20240417T150124Z
LAST-MODIFIED:20240417T150334Z
UID:28490-1717340400-1717351200@www.weaverstreetmarket.coop
SUMMARY:World Hunger Day
DESCRIPTION:NC Cooperative Extension and Durham County are partnering to celebrate World Hunger Day 2024 on June 2nd. Come enjoy and have fun! 
URL:https://www.weaverstreetmarket.coop/event/world-hunger-day/
LOCATION:Durham Central Park\, 501 Foster Street\, Durham NC
CATEGORIES:Community
END:VEVENT
BEGIN:VEVENT
DTSTART;TZID=UTC:20240901T110000
DTEND;TZID=UTC:20240901T130000
DTSTAMP:20260426T024235
CREATED:20240816T174700Z
LAST-MODIFIED:20240816T174700Z
UID:28965-1725188400-1725195600@www.weaverstreetmarket.coop
SUMMARY:Sunday Brunch Music
DESCRIPTION:
URL:https://www.weaverstreetmarket.coop/event/sunday-brunch-music-13/
LOCATION:101 E. Weaver Street in Carrboro\, 101 E. Weaver St.\, Carrboro\, NC\, 27510\, United States
CATEGORIES:Carrboro,Community
END:VEVENT
BEGIN:VEVENT
DTSTART;TZID=UTC:20240908T110000
DTEND;TZID=UTC:20240908T130000
DTSTAMP:20260426T024235
CREATED:20240816T174925Z
LAST-MODIFIED:20240816T174925Z
UID:28968-1725793200-1725800400@www.weaverstreetmarket.coop
SUMMARY:Sunday Brunch Music
DESCRIPTION:
URL:https://www.weaverstreetmarket.coop/event/sunday-brunch-music-14/
LOCATION:101 E. Weaver Street in Carrboro\, 101 E. Weaver St.\, Carrboro\, NC\, 27510\, United States
CATEGORIES:Carrboro,Community
END:VEVENT
BEGIN:VEVENT
DTSTART;TZID=UTC:20240925T170000
DTEND;TZID=UTC:20240925T190000
DTSTAMP:20260426T024235
CREATED:20240820T161742Z
LAST-MODIFIED:20240820T161742Z
UID:29002-1727283600-1727290800@www.weaverstreetmarket.coop
SUMMARY:Fall Wine Sale & Fair
DESCRIPTION:Raleigh store \nMore details coming…
URL:https://www.weaverstreetmarket.coop/event/fall-wine-sale-fair-4/
LOCATION:Weaver Street Raleigh\, 404 West Hargett Street\, Raleigh\, NC\, 27603-1806\, United States
CATEGORIES:Community,Raleigh
ATTACH;FMTTYPE=image/jpeg:https://www.weaverstreetmarket.coop/wp-content/uploads/2024/08/SV_WineFair3-scaled.jpg
GEO:35.7786528;-78.6454709
X-APPLE-STRUCTURED-LOCATION;VALUE=URI;X-ADDRESS=Weaver Street Raleigh 404 West Hargett Street Raleigh NC 27603-1806 United States;X-APPLE-RADIUS=500;X-TITLE=404 West Hargett Street:geo:-78.6454709,35.7786528
END:VEVENT
BEGIN:VEVENT
DTSTART;TZID=UTC:20250426T140000
DTEND;TZID=UTC:20250426T180000
DTSTAMP:20260426T024235
CREATED:20250402T143256Z
LAST-MODIFIED:20250402T143256Z
UID:30059-1745676000-1745690400@www.weaverstreetmarket.coop
SUMMARY:Piedmont Farm Tour
DESCRIPTION:
URL:https://www.weaverstreetmarket.coop/event/piedmont-farm-tour-8/
LOCATION:NC
CATEGORIES:Community
END:VEVENT
BEGIN:VEVENT
DTSTART;TZID=UTC:20250427T140000
DTEND;TZID=UTC:20250427T180000
DTSTAMP:20260426T024235
CREATED:20250402T143341Z
LAST-MODIFIED:20250402T143341Z
UID:30062-1745762400-1745776800@www.weaverstreetmarket.coop
SUMMARY:Piedmont Farm Tour
DESCRIPTION:
URL:https://www.weaverstreetmarket.coop/event/piedmont-farm-tour-9/
LOCATION:NC
CATEGORIES:Community
END:VEVENT
BEGIN:VEVENT
DTSTART;TZID=UTC:20250928T130000
DTEND;TZID=UTC:20250928T233000
DTSTAMP:20260426T024235
CREATED:20250924T194052Z
LAST-MODIFIED:20250924T194052Z
UID:31039-1759064400-1759102200@www.weaverstreetmarket.coop
SUMMARY:Carrboro Music Festival
DESCRIPTION:Join us throughout Downtown Carrboro on Sunday\, October 28th\, 2025 for the  Carrboro Music Festival! \nMore information here \nView Poster for band information
URL:https://www.weaverstreetmarket.coop/event/carrboro-music-festival-7/
LOCATION:Carrboro\, NC
CATEGORIES:Carrboro,Community
ATTACH;FMTTYPE=image/jpeg:https://www.weaverstreetmarket.coop/wp-content/uploads/2025/09/CMF-Poster-scaled.jpg
END:VEVENT
BEGIN:VEVENT
DTSTART;TZID=UTC:20251019T140000
DTEND;TZID=UTC:20251019T170000
DTSTAMP:20260426T024235
CREATED:20251014T193757Z
LAST-MODIFIED:20251014T193757Z
UID:31182-1760882400-1760893200@www.weaverstreetmarket.coop
SUMMARY:Fall Coop Fair
DESCRIPTION:It’s time for the Co-op Fair! Join us at our Hillsborough Food House!\nJoin us for an exciting and vibrant Co-op Fair where you can sample delicious goods from our amazing Local\, Co-op\, and Game Changer producers! Chat with passionate folks from First Hand Foods\, Farmer Foodshare\, Melina’s Pasta\, Blue Slate Tortillas\, Chapel Hill Creamery Cheese\, Boxcarr Handmade Cheese\, Sujin Sushi\, Bingo Bango Soda\, and more. Connect with our friends from RAFI\, who will share about their launch of NC Seed Stewards\, a collaborative project of RAFI’s Just Foods Program and Farmers of Color Network with the NC Botanical Gardens. \nYou can also chat with members of our Board of Directors as well as the candidates running in the 2025 board election. Visit with winners of the 2025 Cooperative Community Fund grants\, and learn updates about the Food For All program and the impact of the Round Up! program. Learn about Weaver Street’s reusable packaging initiative\, and enter the raffles for local\, Game Changer\, and co-op produced products. \nKids are welcome. Let us know you are coming by reserving tickets. \nWe’ll be taking photos and videos at the event. By reserving a ticket and attending\, you are consenting for all attendees to be filmed. \nView a photo gallery of past fairs: http://www.weaverstreetmarket.coop/co-op-fair-photo-gallery/
URL:https://www.weaverstreetmarket.coop/event/fall-coop-fair/
LOCATION:Weaver Street Market\, Hillsborough Business Center\, 437 Dimmocks Mill Road\, Suite 10\, Hillsborough\, NC 27278\, Weaver Street Market\, Hillsborough Business Center\, 437 Dimmocks Mill Road\, Suite 10\,\, Hillsborough\, NC 27278\, NC\, 27278\, United States
CATEGORIES:Community
ATTACH;FMTTYPE=image/jpeg:https://www.weaverstreetmarket.coop/wp-content/uploads/2025/10/Co-op-Fair-10.19.25-teaser-1-scaled.jpg
END:VEVENT
BEGIN:VEVENT
DTSTART;TZID=UTC:20260219T183000
DTEND;TZID=UTC:20260219T193000
DTSTAMP:20260426T024235
CREATED:20260217T132319Z
LAST-MODIFIED:20260217T145233Z
UID:31997-1771525800-1771529400@www.weaverstreetmarket.coop
SUMMARY:Weaver Street Market and Equal Exchange Webinar
DESCRIPTION:Weaver Street Market and Equal Exchange Webinar\n\nWe invite you to register for a virtual Fireside Chat with our General Manager\, James Watts\, on Thursday\, February 19th from 6:30-7:30 PM. You’ll learn how Co-op to Co-op trade works between Equal Exchange and Weaver Street Market. And equally as important\, you’ll hear about ways you as co-op owners have a role to play in this effort. Register for the event here.
URL:https://www.weaverstreetmarket.coop/event/weaver-street-market-and-equal-exchange-webinar/
LOCATION:Virtual Meeting
CATEGORIES:Community
ATTACH;FMTTYPE=image/jpeg:https://www.weaverstreetmarket.coop/wp-content/uploads/2026/02/IMG_0818-1-1-scaled.jpg
END:VEVENT
BEGIN:VEVENT
DTSTART;TZID=UTC:20260424T180000
DTEND;TZID=UTC:20260424T220000
DTSTAMP:20260426T024235
CREATED:20260417T022613Z
LAST-MODIFIED:20260417T022613Z
UID:32593-1777053600-1777068000@www.weaverstreetmarket.coop
SUMMARY:Join Weaver Street Market at the Mebane Dogwood Festival
DESCRIPTION:Join Weaver Street Market at the Dogwood Festival on Friday night\, April 24th from 6pm to 10pm!
URL:https://www.weaverstreetmarket.coop/event/join-weaver-street-market-at-the-mebane-dogwood-festival/
LOCATION:NC
CATEGORIES:Community
ATTACH;FMTTYPE=image/jpeg:https://www.weaverstreetmarket.coop/wp-content/uploads/2026/04/Screenshot_16-4-2026_221743_themebanedogwoodfestival.com_.jpeg
ORGANIZER;CN="Mebane Business Association":MAILTO:mebanebusinessassociation@gmail.com
END:VEVENT
BEGIN:VEVENT
DTSTART;TZID=UTC:20260425T140000
DTEND;TZID=UTC:20260426T180000
DTSTAMP:20260426T024235
CREATED:20260403T012603Z
LAST-MODIFIED:20260403T012603Z
UID:32420-1777125600-1777226400@www.weaverstreetmarket.coop
SUMMARY:Piedmont Farm Tour
DESCRIPTION:The Piedmont Farm Tour is back for its 29th year!\n \nEvery spring\, local farmers open their gates for a behind-the-scenes look at how local food is grown. Meet the farmers\, explore working farms\, and experience sustainable agriculture firsthand—all in one unforgettable weekend. \nTour Buttons One button gives you access to all participating farms all weekend long.\n• $35 in advance | $40 day of tour\n• $25 for CFSA or Weaver Street Market members. Become on Owner today! \nButtons and Maps are available at all Weaver Street Market locations beginning April 3\, or online. \nPreview the tour brochure here. \nVolunteer and tour for free! Volunteers receive a limited-edition t-shirt and a free tour pass. \nThank you for supporting local farms. \n\nPiedmont Farm Tour – Carolina Farm Stewardship Association
URL:https://www.weaverstreetmarket.coop/event/piedmont-farm-tour-10/
LOCATION:NC
CATEGORIES:Community
ATTACH;FMTTYPE=image/jpeg:https://www.weaverstreetmarket.coop/wp-content/uploads/2026/04/piedmont-farm-tour-logo-e1775179350408.jpg
END:VEVENT
END:VCALENDAR