BEGIN:VCALENDAR
VERSION:2.0
PRODID:-//Weaver Street Market - ECPv6.15.18//NONSGML v1.0//EN
CALSCALE:GREGORIAN
METHOD:PUBLISH
X-WR-CALNAME:Weaver Street Market
X-ORIGINAL-URL:https://www.weaverstreetmarket.coop
X-WR-CALDESC:Events for Weaver Street Market
REFRESH-INTERVAL;VALUE=DURATION:PT1H
X-Robots-Tag:noindex
X-PUBLISHED-TTL:PT1H
BEGIN:VTIMEZONE
TZID:UTC
BEGIN:STANDARD
TZOFFSETFROM:+0000
TZOFFSETTO:+0000
TZNAME:UTC
DTSTART:20230101T000000
END:STANDARD
END:VTIMEZONE
BEGIN:VEVENT
DTSTART;TZID=UTC:20240508T083000
DTEND;TZID=UTC:20240508T120000
DTSTAMP:20260423T225950
CREATED:20240402T183209Z
LAST-MODIFIED:20240402T183209Z
UID:28459-1715157000-1715169600@www.weaverstreetmarket.coop
SUMMARY:Asian American Advocacy Day
DESCRIPTION:NCAAT: Asian American Advocacy Day 2024 \nNorth Carolina General Assembly\, 16 W Jones St\, Raleigh\, NC 27601 \nWednesday\, May 8th (Sign-in will start at 8:30 a.m. and appointments will begin at 11:00 a.m.) \nTheir staff will schedule all appointments and lunch will be provided after appointments conclude. No previous experience is needed! Especially if you haven’t spoken to your legislators before\, this is a great opportunity to join them in a low-pressure and supportive setting. They will provide virtual training at our Lobby 101 training session on Wednesday\, May 1st at 6:30 p.m. \nRSVP at: ncaat.org/risingtogether
URL:https://www.weaverstreetmarket.coop/event/asian-american-advocacy-day/
CATEGORIES:Community,Raleigh
END:VEVENT
BEGIN:VEVENT
DTSTART;TZID=UTC:20240518T110000
DTEND;TZID=UTC:20240518T160000
DTSTAMP:20260423T225950
CREATED:20240417T145817Z
LAST-MODIFIED:20240514T160403Z
UID:28485-1716030000-1716048000@www.weaverstreetmarket.coop
SUMMARY:Common Roots Asian and Pacific Islander Heritage Month Festival
DESCRIPTION:May is Asian Pacific American Heritage Month (APAHM) — come celebrate with us at the 3rd annual Common Roots Fest! We’ll have Asian artists\, a vendor market\, performances\, food\, and more. This event is FREE and welcomes all ages. It will be held outdoors in Raleigh at Moore Square from 11am – 4pm.  \nCelebrate with NCAAT for their third annual festival\, where they’ll have Asian artists\, a vendor market\, performances\, food\, and more! \n  \n  \nMoore Square\, outdoors\, Raleigh \n Saturday\, May 18th\, 11 AM – 4 PM \n☀️ FREE\, all ages welcome! \n  \nThe theme Common Roots\, calls to mind the unique journeys and contributions of the many diverse communities across Asian and Pacific Islander diasporas while highlighting the beauty we create together as we forge connections across backgrounds and generations – just as every individual root of a plant shares in nourishing each leaf and branch\, so the entire being thrives. \nIf you’re interested in performing\, vending\, displaying your art\, hosting an activity\, or sharing an installation\, please sign up here. \n 
URL:https://www.weaverstreetmarket.coop/event/common-roots-asian-and-pacific-islander-heritage-month-festival/
CATEGORIES:Community,Raleigh
END:VEVENT
END:VCALENDAR