BEGIN:VCALENDAR
VERSION:2.0
PRODID:-//Weaver Street Market - ECPv6.15.18//NONSGML v1.0//EN
CALSCALE:GREGORIAN
METHOD:PUBLISH
X-ORIGINAL-URL:https://www.weaverstreetmarket.coop
X-WR-CALDESC:Events for Weaver Street Market
REFRESH-INTERVAL;VALUE=DURATION:PT1H
X-Robots-Tag:noindex
X-PUBLISHED-TTL:PT1H
BEGIN:VTIMEZONE
TZID:UTC
BEGIN:STANDARD
TZOFFSETFROM:+0000
TZOFFSETTO:+0000
TZNAME:UTC
DTSTART:20150101T000000
END:STANDARD
END:VTIMEZONE
BEGIN:VEVENT
DTSTART;TZID=UTC:20161112T110000
DTEND;TZID=UTC:20161112T140000
DTSTAMP:20260426T001928
CREATED:20161107T182934Z
LAST-MODIFIED:20161107T183718Z
UID:9061-1478948400-1478959200@www.weaverstreetmarket.coop
SUMMARY:Veggie Holiday Tasting (SV)
DESCRIPTION:Our demo team will be in stores this weekend offering samples of vegan and vegetarian holiday foods.
URL:https://www.weaverstreetmarket.coop/event/vegetarian-holiday-tasting-sv/
LOCATION:Weaver Street Southern Village\, 716 Market Street\, Chapel Hill\, NC\, 27516\, United States
CATEGORIES:Southern Village
ATTACH;FMTTYPE=image/jpeg:https://www.weaverstreetmarket.coop/wp-content/uploads/2016/11/Vegan-Holiday-Meal.jpg
GEO:35.8800652;-79.0662497
X-APPLE-STRUCTURED-LOCATION;VALUE=URI;X-ADDRESS=Weaver Street Southern Village 716 Market Street Chapel Hill NC 27516 United States;X-APPLE-RADIUS=500;X-TITLE=716 Market Street:geo:-79.0662497,35.8800652
END:VEVENT
BEGIN:VEVENT
DTSTART;TZID=UTC:20161112T150000
DTEND;TZID=UTC:20161112T180000
DTSTAMP:20260426T001928
CREATED:20161107T183421Z
LAST-MODIFIED:20161107T183421Z
UID:9065-1478962800-1478973600@www.weaverstreetmarket.coop
SUMMARY:Holiday Appetizer Tasting
DESCRIPTION:Try Weaver Street Market-made holiday appetizers all ALL of our stores. Look for our demo tables.
URL:https://www.weaverstreetmarket.coop/event/holiday-appetizer-tasting-2/
LOCATION:Weaver Street Southern Village\, 716 Market Street\, Chapel Hill\, NC\, 27516\, United States
CATEGORIES:Southern Village
ATTACH;FMTTYPE=image/jpeg:https://www.weaverstreetmarket.coop/wp-content/uploads/2016/11/herb-butter.jpg
GEO:35.8800652;-79.0662497
X-APPLE-STRUCTURED-LOCATION;VALUE=URI;X-ADDRESS=Weaver Street Southern Village 716 Market Street Chapel Hill NC 27516 United States;X-APPLE-RADIUS=500;X-TITLE=716 Market Street:geo:-79.0662497,35.8800652
END:VEVENT
END:VCALENDAR