BEGIN:VCALENDAR
VERSION:2.0
PRODID:-//Weaver Street Market - ECPv6.15.18//NONSGML v1.0//EN
CALSCALE:GREGORIAN
METHOD:PUBLISH
X-ORIGINAL-URL:https://www.weaverstreetmarket.coop
X-WR-CALDESC:Events for Weaver Street Market
REFRESH-INTERVAL;VALUE=DURATION:PT1H
X-Robots-Tag:noindex
X-PUBLISHED-TTL:PT1H
BEGIN:VTIMEZONE
TZID:UTC
BEGIN:STANDARD
TZOFFSETFROM:+0000
TZOFFSETTO:+0000
TZNAME:UTC
DTSTART:20240101T000000
END:STANDARD
END:VTIMEZONE
BEGIN:VEVENT
DTSTART;TZID=UTC:20250419T170000
DTEND;TZID=UTC:20250419T190000
DTSTAMP:20260421T053214
CREATED:20250402T140549Z
LAST-MODIFIED:20250407T131146Z
UID:30035-1745082000-1745089200@www.weaverstreetmarket.coop
SUMMARY:New Cooking Class; Discovering the Versatile Magic of Tinned Fish
DESCRIPTION:Discovering the Versatile Magic of Tinned Fish\nIt’s not only your mother’s tuna or anchovies anymore. In America\, we have often missed out on the uniqueness and versatility of tinned fish. In many countries\, it is not just about preservation\, but instead about a culture of connoisseurship surrounding tinned fish. Weaver Street Market is diving into that creativity and showing you the versatility and magic of tinned fish by teaching you how it can be used in a variety of exciting and delicious ways – alongside some delightful wine\, beer\, and non-alcohol pairings! Join our Specialty Foods Merchandiser Peg Todloski and our Southern Village Prepared Foods Manager Caroline McDaniel on this journey at our Southern Village store! \nPurchase your ticket here.
URL:https://www.weaverstreetmarket.coop/event/new-cooking-class-discovering-the-versatile-magic-of-tinned-fish/
LOCATION:Weaver Street Southern Village\, 716 Market Street\, Chapel Hill\, NC\, 27516\, United States
CATEGORIES:Southern Village
ATTACH;FMTTYPE=image/jpeg:https://www.weaverstreetmarket.coop/wp-content/uploads/2025/03/Tasting-Kitchen-Event-Tin-Fish-4.19.25-social-r1-scaled.jpg
GEO:35.8800652;-79.0662497
X-APPLE-STRUCTURED-LOCATION;VALUE=URI;X-ADDRESS=Weaver Street Southern Village 716 Market Street Chapel Hill NC 27516 United States;X-APPLE-RADIUS=500;X-TITLE=716 Market Street:geo:-79.0662497,35.8800652
END:VEVENT
END:VCALENDAR