BEGIN:VCALENDAR
VERSION:2.0
PRODID:-//Weaver Street Market - ECPv6.15.18//NONSGML v1.0//EN
CALSCALE:GREGORIAN
METHOD:PUBLISH
X-ORIGINAL-URL:https://www.weaverstreetmarket.coop
X-WR-CALDESC:Events for Weaver Street Market
REFRESH-INTERVAL;VALUE=DURATION:PT1H
X-Robots-Tag:noindex
X-PUBLISHED-TTL:PT1H
BEGIN:VTIMEZONE
TZID:UTC
BEGIN:STANDARD
TZOFFSETFROM:+0000
TZOFFSETTO:+0000
TZNAME:UTC
DTSTART:20240101T000000
END:STANDARD
END:VTIMEZONE
BEGIN:VEVENT
DTSTART;TZID=UTC:20250531T150000
DTEND;TZID=UTC:20250531T170000
DTSTAMP:20260421T083416
CREATED:20250528T122851Z
LAST-MODIFIED:20250528T123230Z
UID:30338-1748703600-1748710800@www.weaverstreetmarket.coop
SUMMARY:Tinned Fish & Wine Pop Up Event!
DESCRIPTION:
URL:https://www.weaverstreetmarket.coop/event/tinned-fish-wine-pop-up-event/
LOCATION:400 Market St.\, Southern Village Chapel Hill\, NC 27516
CATEGORIES:Southern Village
END:VEVENT
END:VCALENDAR