BEGIN:VCALENDAR
VERSION:2.0
PRODID:-//Weaver Street Market - ECPv6.15.18//NONSGML v1.0//EN
CALSCALE:GREGORIAN
METHOD:PUBLISH
X-ORIGINAL-URL:https://www.weaverstreetmarket.coop
X-WR-CALDESC:Events for Weaver Street Market
REFRESH-INTERVAL;VALUE=DURATION:PT1H
X-Robots-Tag:noindex
X-PUBLISHED-TTL:PT1H
BEGIN:VTIMEZONE
TZID:UTC
BEGIN:STANDARD
TZOFFSETFROM:+0000
TZOFFSETTO:+0000
TZNAME:UTC
DTSTART:20230101T000000
END:STANDARD
END:VTIMEZONE
BEGIN:VEVENT
DTSTART;TZID=UTC:20240918T170000
DTEND;TZID=UTC:20240918T190000
DTSTAMP:20260421T054017
CREATED:20240820T160800Z
LAST-MODIFIED:20240911T181921Z
UID:28993-1726678800-1726686000@www.weaverstreetmarket.coop
SUMMARY:Fall Wine Sale & Fair
DESCRIPTION:Southern Village store in Chapel Hill \nMore details coming…
URL:https://www.weaverstreetmarket.coop/event/fall-wine-sale-fair/
LOCATION:400 Market St.\, Southern Village Chapel Hill\, NC 27516
CATEGORIES:Southern Village
ATTACH;FMTTYPE=image/jpeg:https://www.weaverstreetmarket.coop/wp-content/uploads/2024/08/SV_WineFair9-scaled.jpg
END:VEVENT
END:VCALENDAR