BEGIN:VCALENDAR
VERSION:2.0
PRODID:-//Weaver Street Market - ECPv6.15.18//NONSGML v1.0//EN
CALSCALE:GREGORIAN
METHOD:PUBLISH
X-WR-CALNAME:Weaver Street Market
X-ORIGINAL-URL:https://www.weaverstreetmarket.coop
X-WR-CALDESC:Events for Weaver Street Market
REFRESH-INTERVAL;VALUE=DURATION:PT1H
X-Robots-Tag:noindex
X-PUBLISHED-TTL:PT1H
BEGIN:VTIMEZONE
TZID:UTC
BEGIN:STANDARD
TZOFFSETFROM:+0000
TZOFFSETTO:+0000
TZNAME:UTC
DTSTART:20240101T000000
END:STANDARD
END:VTIMEZONE
BEGIN:VEVENT
DTSTART;TZID=UTC:20250406T150000
DTEND;TZID=UTC:20250406T170000
DTSTAMP:20260423T155049
CREATED:20250402T135300Z
LAST-MODIFIED:20250402T142836Z
UID:30026-1743951600-1743958800@www.weaverstreetmarket.coop
SUMMARY:Southern Village Wine Fair
DESCRIPTION:Come enjoy FREE Wine Fair at our Southern Village store! \nSample wines featured in our Spring Wine Sale and taste some great LOCAL food from Boxcarr Cheese & Piedmont Pennies Cheesy Biscuit Crackers. PDF wine list is available here. \nUpcoming Wine Sale details pg2\nUpcoming Wine Sale details pg1
URL:https://www.weaverstreetmarket.coop/event/southern-village-wine-fair/
LOCATION:Weaver Street Southern Village\, 716 Market Street\, Chapel Hill\, NC\, 27516\, United States
CATEGORIES:Southern Village
GEO:35.8800652;-79.0662497
X-APPLE-STRUCTURED-LOCATION;VALUE=URI;X-ADDRESS=Weaver Street Southern Village 716 Market Street Chapel Hill NC 27516 United States;X-APPLE-RADIUS=500;X-TITLE=716 Market Street:geo:-79.0662497,35.8800652
END:VEVENT
END:VCALENDAR