BEGIN:VCALENDAR
VERSION:2.0
PRODID:-//Weaver Street Market - ECPv6.15.18//NONSGML v1.0//EN
CALSCALE:GREGORIAN
METHOD:PUBLISH
X-WR-CALNAME:Weaver Street Market
X-ORIGINAL-URL:https://www.weaverstreetmarket.coop
X-WR-CALDESC:Events for Weaver Street Market
REFRESH-INTERVAL;VALUE=DURATION:PT1H
X-Robots-Tag:noindex
X-PUBLISHED-TTL:PT1H
BEGIN:VTIMEZONE
TZID:UTC
BEGIN:STANDARD
TZOFFSETFROM:+0000
TZOFFSETTO:+0000
TZNAME:UTC
DTSTART:20170101T000000
END:STANDARD
END:VTIMEZONE
BEGIN:VEVENT
DTSTART;TZID=UTC:20181202T160000
DTEND;TZID=UTC:20181202T180000
DTSTAMP:20260420T095341
CREATED:20181129T181718Z
LAST-MODIFIED:20181129T181929Z
UID:17003-1543766400-1543773600@www.weaverstreetmarket.coop
SUMMARY:Holiday Parade (Hillsborough)
DESCRIPTION:The annual holiday parade\, preceded by the Running of the Elves race! \nhttp://www.hillsboroughchamber.com/pages/parade
URL:https://www.weaverstreetmarket.coop/event/holiday-parade-hillsborough/
CATEGORIES:Community
ATTACH;FMTTYPE=image/jpeg:https://www.weaverstreetmarket.coop/wp-content/uploads/2017/12/hillsborough-parade.jpg
END:VEVENT
BEGIN:VEVENT
DTSTART;TZID=UTC:20181208T100000
DTEND;TZID=UTC:20181208T120000
DTSTAMP:20260420T095341
CREATED:20181129T182302Z
LAST-MODIFIED:20181129T182302Z
UID:17004-1544263200-1544270400@www.weaverstreetmarket.coop
SUMMARY:Holiday Parade (CH-Carrboro)
DESCRIPTION:The annual Chapel Hill-Carrboro holiday parade. \nhttps://www.chapelhillholidayparade.com/
URL:https://www.weaverstreetmarket.coop/event/holiday-parade-ch-carrboro/
CATEGORIES:Community
ATTACH;FMTTYPE=image/jpeg:https://www.weaverstreetmarket.coop/wp-content/uploads/2015/12/christmas-lights-from-pixabay.jpg
END:VEVENT
BEGIN:VEVENT
DTSTART;TZID=UTC:20181212T181500
DTEND;TZID=UTC:20181212T213000
DTSTAMP:20260420T095341
CREATED:20180102T202419Z
LAST-MODIFIED:20180314T153000Z
UID:14071-1544638500-1544650200@www.weaverstreetmarket.coop
SUMMARY:Board Meeting
DESCRIPTION:Board Meetings are open to owners of the co-op. Owners are invited to sit in; in addition\, they can address the Board for three minutes at the start of the meeting. \nPlease RSVP to board@weaverstreetmarket.coop by 10 am on the day of the meeting if you plan to attend\, so that we can order enough food! \nView the agenda here. (The agenda is updated a few days before the meeting.) \n6:15 pm – Light dinner (vegan and veggie options provided)\n6:30 to 9:30 pm – Board Meeting
URL:https://www.weaverstreetmarket.coop/event/board-meeting-26-2018-12-12/
LOCATION:Administration Office\, 437 Dimmocks Mill Rd Suite 10\, Hillsborough\, NC\, 27278\, United States
CATEGORIES:Owner
ATTACH;FMTTYPE=image/jpeg:https://www.weaverstreetmarket.coop/wp-content/uploads/2016/01/board-candidate-info-session-e1552589217566.jpg
GEO:36.0694973;-79.1136802
X-APPLE-STRUCTURED-LOCATION;VALUE=URI;X-ADDRESS=Administration Office 437 Dimmocks Mill Rd Suite 10 Hillsborough NC 27278 United States;X-APPLE-RADIUS=500;X-TITLE=437 Dimmocks Mill Rd Suite 10:geo:-79.1136802,36.0694973
END:VEVENT
END:VCALENDAR