BEGIN:VCALENDAR
VERSION:2.0
PRODID:-//Weaver Street Market - ECPv6.15.18//NONSGML v1.0//EN
CALSCALE:GREGORIAN
METHOD:PUBLISH
X-ORIGINAL-URL:https://www.weaverstreetmarket.coop
X-WR-CALDESC:Events for Weaver Street Market
REFRESH-INTERVAL;VALUE=DURATION:PT1H
X-Robots-Tag:noindex
X-PUBLISHED-TTL:PT1H
BEGIN:VTIMEZONE
TZID:UTC
BEGIN:STANDARD
TZOFFSETFROM:+0000
TZOFFSETTO:+0000
TZNAME:UTC
DTSTART:20230101T000000
END:STANDARD
END:VTIMEZONE
BEGIN:VEVENT
DTSTART;TZID=UTC:20241006T110000
DTEND;TZID=UTC:20241006T130000
DTSTAMP:20260422T044255
CREATED:20240816T175352Z
LAST-MODIFIED:20240911T181553Z
UID:28977-1728212400-1728219600@www.weaverstreetmarket.coop
SUMMARY:Sunday Brunch Music
DESCRIPTION:
URL:https://www.weaverstreetmarket.coop/event/sunday-brunch-music-18/
LOCATION:101 E. Weaver Street in Carrboro\, 101 E. Weaver St.\, Carrboro\, NC\, 27510\, United States
CATEGORIES:Carrboro
END:VEVENT
BEGIN:VEVENT
DTSTART;TZID=UTC:20241006T150000
DTEND;TZID=UTC:20241006T180000
DTSTAMP:20260422T044255
CREATED:20240930T214243Z
LAST-MODIFIED:20241001T125837Z
UID:29228-1728226800-1728237600@www.weaverstreetmarket.coop
SUMMARY:Empty Bowls
DESCRIPTION:Purchase your ticket(s) here.
URL:https://www.weaverstreetmarket.coop/event/empty-bowls-5/
LOCATION:Carrboro Town Commons\, 301 W Main St\,\, Carrboro\, NC\, United States
CATEGORIES:Carrboro
END:VEVENT
BEGIN:VEVENT
DTSTART;TZID=UTC:20241018T170000
DTEND;TZID=UTC:20241018T193000
DTSTAMP:20260422T044255
CREATED:20241015T174427Z
LAST-MODIFIED:20241015T174427Z
UID:29287-1729270800-1729279800@www.weaverstreetmarket.coop
SUMMARY:Stories Under the Stars
DESCRIPTION:
URL:https://www.weaverstreetmarket.coop/event/stories-under-the-stars-8/
LOCATION:101 E. Weaver Street in Carrboro\, 101 E. Weaver St.\, Carrboro\, NC\, 27510\, United States
CATEGORIES:Carrboro
END:VEVENT
BEGIN:VEVENT
DTSTART;TZID=UTC:20241020T140000
DTEND;TZID=UTC:20241020T170000
DTSTAMP:20260422T044255
CREATED:20240808T202840Z
LAST-MODIFIED:20240808T202945Z
UID:28946-1729432800-1729443600@www.weaverstreetmarket.coop
SUMMARY:Fall Co-op Fair
DESCRIPTION:Save the Date!\n\n\n\nFall Co-op Fair\, 2-5 pm\, WSM Foodhouse\, Hillsborough \nLocal\, Game Changer\, and Co-op Producers will be sampling their goods.  \nMore details to follow.
URL:https://www.weaverstreetmarket.coop/event/fall-co-op-fair-2/
LOCATION:Administration Office\, 437 Dimmocks Mill Rd Suite 10\, Hillsborough\, NC\, 27278\, United States
CATEGORIES:Hillsborough,Owner
GEO:36.0694973;-79.1136802
X-APPLE-STRUCTURED-LOCATION;VALUE=URI;X-ADDRESS=Administration Office 437 Dimmocks Mill Rd Suite 10 Hillsborough NC 27278 United States;X-APPLE-RADIUS=500;X-TITLE=437 Dimmocks Mill Rd Suite 10:geo:-79.1136802,36.0694973
END:VEVENT
END:VCALENDAR