BEGIN:VCALENDAR
VERSION:2.0
PRODID:-//Weaver Street Market - ECPv6.15.18//NONSGML v1.0//EN
CALSCALE:GREGORIAN
METHOD:PUBLISH
X-WR-CALNAME:Weaver Street Market
X-ORIGINAL-URL:https://www.weaverstreetmarket.coop
X-WR-CALDESC:Events for Weaver Street Market
REFRESH-INTERVAL;VALUE=DURATION:PT1H
X-Robots-Tag:noindex
X-PUBLISHED-TTL:PT1H
BEGIN:VTIMEZONE
TZID:UTC
BEGIN:STANDARD
TZOFFSETFROM:+0000
TZOFFSETTO:+0000
TZNAME:UTC
DTSTART:20170101T000000
END:STANDARD
END:VTIMEZONE
BEGIN:VEVENT
DTSTART;TZID=UTC:20181004T180000
DTEND;TZID=UTC:20181004T210000
DTSTAMP:20260422T232150
CREATED:20180920T160940Z
LAST-MODIFIED:20181004T162633Z
UID:16535-1538676000-1538686800@www.weaverstreetmarket.coop
SUMMARY:The Dillon's Grand Opening
DESCRIPTION:We’re proud to take part in the official grand opening of The Dillon. Join us and our friends at The Dillon to celebrate the opening of the coolest new addition to Raleigh’s Warehouse District. It’ll be up on the Terrace on the 9th floor of the Dillon. The entrance is across the street from Father & Sons\, on the southwest corner of the South Dillon building (intersection of West and Martin); take the elevator to the ninth floor.
URL:https://www.weaverstreetmarket.coop/event/the-dillons-grand-opening/
LOCATION:The Dillon\, 223 S. West Street\, Raleigh\, NC\, 27603-1806\, United States
CATEGORIES:Raleigh
ATTACH;FMTTYPE=image/png:https://www.weaverstreetmarket.coop/wp-content/uploads/2018/09/TheDillon-from-their-website-banner.png
GEO:35.7786528;-78.6454709
X-APPLE-STRUCTURED-LOCATION;VALUE=URI;X-ADDRESS=The Dillon 223 S. West Street Raleigh NC 27603-1806 United States;X-APPLE-RADIUS=500;X-TITLE=223 S. West Street:geo:-78.6454709,35.7786528
END:VEVENT
BEGIN:VEVENT
DTSTART;TZID=UTC:20181006T130000
DTEND;TZID=UTC:20181006T170000
DTSTAMP:20260422T232150
CREATED:20180816T180923Z
LAST-MODIFIED:20180927T183538Z
UID:16207-1538830800-1538845200@www.weaverstreetmarket.coop
SUMMARY:Fall Wine Show (Carrboro)
DESCRIPTION:The Fall Wine Sale is just around the corner! From October 3 to 30\, we’ll have 34 wines on sale at deeply discounted prices\, up to 51% off. This season’s sale includes 18 organic wines (!!)\, 10 co-op produced wines\, and 7 fair trade certified wines. A list of the wines on sale will be posted here soon. \nCome to one of our three wine shows to taste all the sale wines before you buy. Enjoy hors-d’oeuvres and live music\, taste all the wines\, and enter to win door prizes. \nWant to stock up at the wine show? Buying wine at the show is easy: We have staff on hand to pull your orders together. Purchases of 6 to 11 bottles receive an additional 5% off\, and 12 bottles or more receive an addition 10% off on top of the sale prices. \nThis fall’s wine show proceeds will go to Hurricane Florence relief. Tickets are $15 each and will benefit RAFI’s Hurricane Relief for Family Farms\, which provides support for family farmers throughout the region who who were affected by / recovering from Hurricane Florence. \nWine list: posted a few days before the sale begins\, on our website\, here:\nhttps://www.weaverstreetmarket.coop/fall-wine-sale-2/
URL:https://www.weaverstreetmarket.coop/event/fall-wine-show-carrboro-3/
LOCATION:Weaver Street Carrboro\, 101 East Weaver Street\, Carrboro\, NC\, 27510\, United States
CATEGORIES:Carrboro
ATTACH;FMTTYPE=image/jpeg:https://www.weaverstreetmarket.coop/wp-content/uploads/2018/09/wine-show-glasses-newlogo-for-front-page.jpg
GEO:35.9111078;-79.0722591
X-APPLE-STRUCTURED-LOCATION;VALUE=URI;X-ADDRESS=Weaver Street Carrboro 101 East Weaver Street Carrboro NC 27510 United States;X-APPLE-RADIUS=500;X-TITLE=101 East Weaver Street:geo:-79.0722591,35.9111078
END:VEVENT
END:VCALENDAR