BEGIN:VCALENDAR
VERSION:2.0
PRODID:-//Weaver Street Market - ECPv6.15.18//NONSGML v1.0//EN
CALSCALE:GREGORIAN
METHOD:PUBLISH
X-ORIGINAL-URL:https://www.weaverstreetmarket.coop
X-WR-CALDESC:Events for Weaver Street Market
REFRESH-INTERVAL;VALUE=DURATION:PT1H
X-Robots-Tag:noindex
X-PUBLISHED-TTL:PT1H
BEGIN:VTIMEZONE
TZID:UTC
BEGIN:STANDARD
TZOFFSETFROM:+0000
TZOFFSETTO:+0000
TZNAME:UTC
DTSTART:20170101T000000
END:STANDARD
END:VTIMEZONE
BEGIN:VEVENT
DTSTART;TZID=UTC:20181129T083000
DTEND;TZID=UTC:20181129T103000
DTSTAMP:20260419T185442
CREATED:20181128T201332Z
LAST-MODIFIED:20181128T201332Z
UID:17000-1543480200-1543487400@www.weaverstreetmarket.coop
SUMMARY:Coffee with a Cop
DESCRIPTION:Chat with officers from the Carrboro police department and enjoy free coffee in our Carrboro cafe.
URL:https://www.weaverstreetmarket.coop/event/coffee-with-a-cop-4/
LOCATION:Weaver Street Carrboro\, 101 East Weaver Street\, Carrboro\, NC\, 27510\, United States
CATEGORIES:Carrboro
ATTACH;FMTTYPE=image/jpeg:https://www.weaverstreetmarket.coop/wp-content/uploads/2017/01/carrboro-police-with-cappuccino.jpg
GEO:35.9111078;-79.0722591
X-APPLE-STRUCTURED-LOCATION;VALUE=URI;X-ADDRESS=Weaver Street Carrboro 101 East Weaver Street Carrboro NC 27510 United States;X-APPLE-RADIUS=500;X-TITLE=101 East Weaver Street:geo:-79.0722591,35.9111078
END:VEVENT
BEGIN:VEVENT
DTSTART;TZID=UTC:20181202T160000
DTEND;TZID=UTC:20181202T180000
DTSTAMP:20260419T185442
CREATED:20181129T181718Z
LAST-MODIFIED:20181129T181929Z
UID:17003-1543766400-1543773600@www.weaverstreetmarket.coop
SUMMARY:Holiday Parade (Hillsborough)
DESCRIPTION:The annual holiday parade\, preceded by the Running of the Elves race! \nhttp://www.hillsboroughchamber.com/pages/parade
URL:https://www.weaverstreetmarket.coop/event/holiday-parade-hillsborough/
CATEGORIES:Community
ATTACH;FMTTYPE=image/jpeg:https://www.weaverstreetmarket.coop/wp-content/uploads/2017/12/hillsborough-parade.jpg
END:VEVENT
END:VCALENDAR