BEGIN:VCALENDAR
VERSION:2.0
PRODID:-//Weaver Street Market - ECPv6.15.18//NONSGML v1.0//EN
CALSCALE:GREGORIAN
METHOD:PUBLISH
X-WR-CALNAME:Weaver Street Market
X-ORIGINAL-URL:https://www.weaverstreetmarket.coop
X-WR-CALDESC:Events for Weaver Street Market
REFRESH-INTERVAL;VALUE=DURATION:PT1H
X-Robots-Tag:noindex
X-PUBLISHED-TTL:PT1H
BEGIN:VTIMEZONE
TZID:UTC
BEGIN:STANDARD
TZOFFSETFROM:+0000
TZOFFSETTO:+0000
TZNAME:UTC
DTSTART:20240101T000000
END:STANDARD
END:VTIMEZONE
BEGIN:VEVENT
DTSTART;TZID=UTC:20250503T130000
DTEND;TZID=UTC:20250503T160000
DTSTAMP:20260424T074950
CREATED:20250430T172010Z
LAST-MODIFIED:20250430T172010Z
UID:30185-1746277200-1746288000@www.weaverstreetmarket.coop
SUMMARY:Transplanting Traditions Community Farm
DESCRIPTION:
URL:https://www.weaverstreetmarket.coop/event/transplanting-traditions-community-farm/
LOCATION:2912B Jones Ferry Rd\, 2912B Jones Ferry Rd\,\, Chapel Hill\, NC\, 27516\, United States
ORGANIZER;CN="Transplanting Traditions Farm":MAILTO:info@transplantingtraditions.org
END:VEVENT
END:VCALENDAR