BEGIN:VCALENDAR
VERSION:2.0
PRODID:-//Weaver Street Market - ECPv6.15.18//NONSGML v1.0//EN
CALSCALE:GREGORIAN
METHOD:PUBLISH
X-ORIGINAL-URL:https://www.weaverstreetmarket.coop
X-WR-CALDESC:Events for Weaver Street Market
REFRESH-INTERVAL;VALUE=DURATION:PT1H
X-Robots-Tag:noindex
X-PUBLISHED-TTL:PT1H
BEGIN:VTIMEZONE
TZID:UTC
BEGIN:STANDARD
TZOFFSETFROM:+0000
TZOFFSETTO:+0000
TZNAME:UTC
DTSTART:20240101T000000
END:STANDARD
END:VTIMEZONE
BEGIN:VEVENT
DTSTART;TZID=UTC:20250718T180000
DTEND;TZID=UTC:20250718T200000
DTSTAMP:20260423T095303
CREATED:20250619T023131Z
LAST-MODIFIED:20250713T160610Z
UID:30521-1752861600-1752868800@www.weaverstreetmarket.coop
SUMMARY:SOLD OUT! Focaccia: Make your own floral-topped masterpiece
DESCRIPTION:THIS CLASS IS SOLD OUT! BE SURE TO SIGN UP FOR FUTURE CLASSES – Ah – focaccia! Who does not love this light yet chewy bread infused with delicious olive oil? Learn how to make focaccia and elevate it into a personalized veggie and herb topped masterpiece! You will work individually in a fun\, hands-on environment led by Jon McDonald\, our Bread Bakery Manager\, who will teach you techniques for mixing\, forming\, topping\, and baking. Enjoy fresh baked focaccia during the class as well as take home your own decorated\, ready-to-bake topped masterpiece to share with family and friends!
URL:https://www.weaverstreetmarket.coop/event/focaccia-make-your-own-floral-topped-masterpiece/
LOCATION:Weaver Street Market\, 404 W Hargett St\, Raleigh\, NC 27603\, 404 W Hargett St\,\, Raleigh\, NC\, NC\, 27603\, United States
CATEGORIES:Raleigh
ATTACH;FMTTYPE=image/jpeg:https://www.weaverstreetmarket.coop/wp-content/uploads/2025/06/Tasting-Kitchen-Event-Focaccia-Class-7.18.25-FLYER.jpg
END:VEVENT
BEGIN:VEVENT
DTSTART;TZID=UTC:20250720T110000
DTEND;TZID=UTC:20250720T130000
DTSTAMP:20260423T095303
CREATED:20250619T020352Z
LAST-MODIFIED:20250811T140353Z
UID:30491-1753009200-1753016400@www.weaverstreetmarket.coop
SUMMARY:Sunday Brunch Music
DESCRIPTION:Join us on the lawn in Carrboro every Sunday for free music\, fresh air\, and a delicious brunch. Enjoy listening to your favorite local bands while catching up with friends and neighbors. If the weather looks “iffy\,” check our social media for a cancellation notice. \n  \nAugust 17: The Spectacles \nAugust 24: The Guilty Pleasures \nAugust 31: Saludos Compay \n  \nSeptember 7: The Lids \nSeptember 14: The Jeff Brown Quartet \nSeptember 21: TBA \nSeptember 28: CB Music Festival \n  \nOctober 5: Rhonda Robichaux \nOctober 12: TBA
URL:https://www.weaverstreetmarket.coop/event/sunday-brunch-music-20/
LOCATION:101 E. Weaver Street in Carrboro\, 101 E. Weaver St.\, Carrboro\, NC\, 27510\, United States
CATEGORIES:Carrboro
ATTACH;FMTTYPE=image/jpeg:https://www.weaverstreetmarket.coop/wp-content/uploads/2025/06/2025-Sunday-Brunch-Music-AD.jpg
END:VEVENT
END:VCALENDAR