BEGIN:VCALENDAR
VERSION:2.0
PRODID:-//Weaver Street Market - ECPv6.15.18//NONSGML v1.0//EN
CALSCALE:GREGORIAN
METHOD:PUBLISH
X-ORIGINAL-URL:https://www.weaverstreetmarket.coop
X-WR-CALDESC:Events for Weaver Street Market
REFRESH-INTERVAL;VALUE=DURATION:PT1H
X-Robots-Tag:noindex
X-PUBLISHED-TTL:PT1H
BEGIN:VTIMEZONE
TZID:UTC
BEGIN:STANDARD
TZOFFSETFROM:+0000
TZOFFSETTO:+0000
TZNAME:UTC
DTSTART:20240101T000000
END:STANDARD
END:VTIMEZONE
BEGIN:VEVENT
DTSTART;TZID=UTC:20250813T180000
DTEND;TZID=UTC:20250813T200000
DTSTAMP:20260420T204845
CREATED:20250123T173608Z
LAST-MODIFIED:20250701T193237Z
UID:29758-1755108000-1755115200@www.weaverstreetmarket.coop
SUMMARY:Board Business Meeting
DESCRIPTION:Wednesday\, August 13th\, 6 pm to 8 pm  \nOwners are welcome to attend. RSVP to Brenda Camp at brenda.c@weaverstreetmarket.coop to receive the meeting link.  \n \n  \nLearn more about our the Board of directors or about our previous Board meetings here.
URL:https://www.weaverstreetmarket.coop/event/board-business-meeting-29/
CATEGORIES:Owner
ATTACH;FMTTYPE=image/jpeg:https://www.weaverstreetmarket.coop/wp-content/uploads/2025/01/Board-Hands-Photo-2.jpg
END:VEVENT
BEGIN:VEVENT
DTSTART;TZID=UTC:20250817T110000
DTEND;TZID=UTC:20250817T130000
DTSTAMP:20260420T204845
CREATED:20250619T020843Z
LAST-MODIFIED:20250722T001326Z
UID:30499-1755428400-1755435600@www.weaverstreetmarket.coop
SUMMARY:Sunday Brunch Music
DESCRIPTION:Join us on the lawn in Carrboro every Sunday for free music\, fresh air\, and a delicious brunch. Enjoy listening to your favorite local bands while catching up with friends and neighbors. If the weather looks “iffy\,” check our social media for a cancellation notice. \n  \nAugust 17: The Spectacles (Brew Tent: Wehrloom Mead) \nAugust 24: The Guilty Pleasures \nAugust 31: Saludos Compay \n  \nSeptember 7: The Lids \nSeptember 14: The Jeff Brown Quartet \nSeptember 21: TBA \nSeptember 28: CB Music Festival \n  \nOctober 5: Rhonda Robichaux \nOctober 12: TBA
URL:https://www.weaverstreetmarket.coop/event/sunday-brunch-music-24/
LOCATION:101 E. Weaver Street in Carrboro\, 101 E. Weaver St.\, Carrboro\, NC\, 27510\, United States
CATEGORIES:Carrboro
ATTACH;FMTTYPE=image/jpeg:https://www.weaverstreetmarket.coop/wp-content/uploads/2025/06/2025-Sunday-Brunch-Music-AD.jpg
END:VEVENT
END:VCALENDAR